Workbook
Name MUNIC_: Acre!$A$1:$H$23
Name MUNIC_: Goias!$A$1:$H$247
Name MUNIC_: 'Espirito Santo'!$A$1:$H$79
Name MUNIC_: 'rio grande do sul'!$A$1:$H$497
Name MUNIC_: Paraiba!$A$1:$H$224
Name MUNIC_: Alagoas!$A$1:$H$103
Name MUNIC_: 'Minas Gerais'!$A$1:$H$854
Name MUNIC_: Ceara!$A$1:$H$185
Name MUNIC_: roraima!$A$1:$H$16
Name MUNIC_: Amapa!$A$1:$H$17
Name MUNIC_: 'rio grande do norte'!$A$1:$H$168
Name MUNIC_: Para!$A$1:$H$144
Name MUNIC_: Piaui!$A$1:$H$225
Name MUNIC_: 'sao paulo'!$A$1:$H$646
Name UF: 'Simulação'!$B$2:$B$28
Name MUNIC_: tocantins!$A$1:$H$140
Name MUNIC_: 'Distrito Federal'!$A$1:$H$2
Name MUNIC_: Maranhao!$A$1:$H$218
Name MUNIC_: 'rio de janeiro'!$A$1:$H$93
Name MUNIC_: rondonia!$A$1:$H$55
Name MUNIC_: Pernambuco!$A$1:$H$186
Name MUNIC_: 'santa catarina'!$A$1:$H$294
Name MUNIC_: Amazonas!$A$1:$H$63
Name MUNIC_: Bahia!$A$1:$H$418
Name MUNIC_: Parana!$A$1:$H$400
Name MUNIC_: 'Mato Grosso do Sul'!$A$1:$H$79
Name MUNIC_: 'Mato Grosso'!$A$1:$H$142
Name MUNIC_: sergipe!$A$1:$H$76

Sheet Simulação
A1: UF | B1: Nome
A2: AC | B2: Acre
A3: AL | B3: Alagoas
A4: AM | B4: Amazonas
A5: AP | B5: Amapa
A6: BA | B6: Bahia
A7: CE | B7: Ceara
A8: DF | B8: Distrito Federal
A9: ES | B9: Espirito Santo
A10: GO | B10: Goias
A11: MA | B11: Maranhao
A12: MG | B12: Minas Gerais
... A28: TO | B28: Tocantins
F33: Selecione o Estado e A Cidade Desejada
F34: Distancia é calculada em relação a localização (Latitude/Longitude)
F35: Pequenas variações em relação a distancia rodoviaria, são esperadas
F39: Origem
F40: Estado | G40: Cidade | H40: Latitude | J40: Longitude
F41: Santa Catarina | G41: Rio do Sul | H41: =ABS(C99)/24 -> 1.133925 | I41: =IF(C99<0,"S","N") -> S | J41: =ABS(D99)/24 -> 2.0684625 | K41: =IF(D99<0,"O","L") -> O
F42: =IF(G41<>"","População","") -> População | G42: =IF(F42<>"",D102,"") -> 61196
I45: SIMULADOR CUSTO MANUTENÇÕES PREVENTIVAS - PONTES ROLANTES
P51: VEJA OS ITENS QUE SERÃO VERIFICADOS EM SEU EQUIPAMENTO
F54: Selecione sua Cidade/Estado (clique para selecionar) | I54: Painéis elétricos: Limpesa, reaperto, checagem componentes, ajustes, medições, organização, etc; | M54: BIVIGA | N54: 2 | O54: =O57*5% -> 50
M55: MONOVIGA | O55: =O57*10% -> 100
F56: Estado | G56: Cidade | I56: Circuitos externos: Festton, esteiras, cabeamento, botoeira, rádio controle, etc;
F57: Alagoas | M57: PONTE | N57: 1 | O57: 1000
C58: =ROUND(C106,0) -> 0 | I58: Motores: Limpesa, medições, reaperto, ajuste eletrofreios, caixas de ligação, testes, etc; | M58: PÓRTICO | O58: 1300
C59: =IF(ISERROR(INT(C58/C60)&" h "&(ROUND((((C58/C60)-INT(C58/C60))*60),0)&" min")),"Não Encontrado !",INT(C58/C60)&" h "&(ROUND((((C58/C60)-INT(C58/C60))*60),0)&" min")) -> 0 h 0 min | F59: Tipo Equipamento | G59: Modelo Equipamento
C60: 60 | I60: Sistemas de segurança: Ajuste fins de curso, sinalização, anti-colisão, controle de sobrecarga, etc; | O60: 2
G63: Distância (Km)
G65: Velocidade Média (Km)
G67: Tempo Estimado de Viagem
C98: Lat | D98: Long
C99: =IF(ISERROR(C109),0,C109) -> -27.2142 | D99: =IF(ISERROR(D109),0,D109) -> -49.6431
C100: =IF(ISERROR(C110),0,C110) -> 0 | D100: =IF(ISERROR(D110),0,D110) -> 0
C101: Calculos
C102: =IF(ISERROR(C112),0,C112) -> 0 | D102: =IF(ISERROR(D112),0,D112) -> 61196
C103: =IF(ISERROR(C113),0,C113) -> 0 | D103: =IF(ISERROR(D113),0,D113) -> 0
C104: =IF(ISERROR(C114),0,C114) -> 0 | D104: =IF(ISERROR(D114),0,D114)
C105: =IF(ISERROR(C115),0,C115) -> 0 | D105: =IF(ISERROR(D115),0,D115) -> 0
...

Sheet Brasil
C1: Código da Região | D1: Região | E1: Nome do Estado | F1: Total da população 2000 | G1: Total de homens | H1: Total de mulheres | I1: Total da população urbana | J1: Total da população rural | K1: Total da população 2010 | L1: Qtde de Cidades
C2: 1 | D2: Norte | E2: Acre | F2: =Acre!C24 -> 557526 | G2: =Acre!D24 -> 367864 | H2: =Acre!E24 -> 364929 | I2: =Acre!F24 -> 532080 | J2: =Acre!G24 -> 200713 | K2: =Acre!H24 -> 732793 | L2: =Acre!I24 -> 22
E3: Amapá | F3: =Amapa!C18 -> 477032 | G3: =Amapa!D18 -> 334674 | H3: =Amapa!E18 -> 334015 | I3: =Amapa!F18 -> 600561 | J3: =Amapa!G18 -> 68128 | K3: =Amapa!H18 -> 668689 | L3: =Amapa!I18 -> 16
E4: Amazonas | F4: =Amazonas!C64 -> 2812557 | G4: =Amazonas!D64 -> 1751328 | H4: =Amazonas!E64 -> 1729609 | I4: =Amazonas!F64 -> 2755756 | J4: =Amazonas!G64 -> 725181 | K4: =Amazonas!H64 -> 3480937 | L4: =Amazonas!I64 -> 62
E5: Pará | F5: =Para!C145 -> 6192307 | G5: =Para!D145 -> 3825245 | H5: =Para!E145 -> 3762833 | I5: =Para!F145 -> 5197118 | J5: =Para!G145 -> 2390960 | K5: =Para!H145 -> 7588078 | L5: =Para!I145 -> 143
E6: Rondônia | F6: =rondonia!C54 -> 1379787 | G6: =rondonia!D54 -> 793224 | H6: =rondonia!E54 -> 767277 | I6: =rondonia!F54 -> 1142648 | J6: =rondonia!G54 -> 417853 | K6: =rondonia!H54 -> 1560501 | L6: =rondonia!I54 -> 52
E7: Roraima | F7: =roraima!C17 -> 324397 | G7: =roraima!D17 -> 229343 | H7: =roraima!E17 -> 221884 | I7: =roraima!F17 -> 344780 | J7: =roraima!G17 -> 106447 | K7: =roraima!H17 -> 451227 | L7: =roraima!I17 -> 15
E8: Tocantins | F8: =tocantins!C141 -> 1157098 | G8: =tocantins!D141 -> 702451 | H8: =tocantins!E141 -> 681002 | I8: =tocantins!F141 -> 1090241 | J8: =tocantins!G141 -> 293212 | K8: =tocantins!H141 -> 1383453 | L8: =tocantins!I141 -> 139
C9: Total | D9: Norte | F9: =SUBTOTAL(9,F2:F8) -> 12900704 | G9: =SUBTOTAL(9,G2:G8) -> 8004129 | H9: =SUBTOTAL(9,H2:H8) -> 7861549 | I9: =SUBTOTAL(9,I2:I8) -> 11663184 | J9: =SUBTOTAL(9,J2:J8) -> 4202494 | K9: =SUBTOTAL(9,K2:K8) -> 15865678 | L9: =SUBTOTAL(9,L2:L8) -> 449
C11: 2 | D11: Nordeste | E11: Alagoas | F11: =Alagoas!C104 -> 2822621 | G11: =Alagoas!D104 -> 1511947 | H11: =Alagoas!E104 -> 1608975 | I11: =Alagoas!F104 -> 2298091 | J11: =Alagoas!G104 -> 822831 | K11: =Alagoas!H104 -> 3120922 | L11: =Alagoas!I104 -> 102
E12: Bahia | F12: =Bahia!C419 -> 13070250 | G12: =Bahia!D419 -> 6880368 | H12: =Bahia!E419 -> 7141064 | I12: =Bahia!F419 -> 10105218 | J12: =Bahia!G419 -> 3916214 | K12: =Bahia!H419 -> 14021432 | L12: =Bahia!I419 -> 417
E13: Ceará | F13: =Ceara!C186 -> 7430661 | G13: =Ceara!D186 -> 4118066 | H13: =Ceara!E186 -> 4329989 | I13: =Ceara!F186 -> 6343990 | J13: =Ceara!G186 -> 2104065 | K13: =Ceara!H186 -> 8448055 | L13: =Ceara!I186 -> 184
E14: Maranhão | F14: =Maranhao!C219 -> 5651475 | G14: =Maranhao!D219 -> 3258860 | H14: =Maranhao!E219 -> 3310823 | I14: =Maranhao!F219 -> 4143728 | J14: =Maranhao!G219 -> 2425955 | K14: =Maranhao!H219 -> 6569683 | L14: =Maranhao!I219 -> 217
E15: Paraíba | F15: =Paraiba!C225 -> 3443825 | G15: =Paraiba!D225 -> 1824495 | H15: =Paraiba!E225 -> 1942339 | I15: =Paraiba!F225 -> 2839002 | J15: =Paraiba!G225 -> 927832 | K15: =Paraiba!H225 -> 3766834 | L15: =Paraiba!I225 -> 223
E16: Pernambuco | F16: =Pernambuco!C187 -> 7918344 | G16: =Pernambuco!D187 -> 4229897 | H16: =Pernambuco!E187 -> 4566135 | I16: =Pernambuco!F187 -> 7049868 | J16: =Pernambuco!G187 -> 1746164 | K16: =Pernambuco!H187 -> 8796032 | L16: =Pernambuco!I187 -> 185
E17: Piauí | F17: =Piaui!C226 -> 2843278 | G17: =Piaui!D226 -> 1528796 | H17: =Piaui!E226 -> 1590219 | I17: =Piaui!F226 -> 2051316 | J17: =Piaui!G226 -> 1067699 | K17: =Piaui!H226 -> 3119015 | L17: =Piaui!I226 -> 224
E18: Rio Grande do Norte | F18: ='rio grande do norte'!C169 -> 2776782 | G18: ='rio grande do norte'!D169 -> 1548731 | H18: ='rio grande do norte'!E169 -> 1619402 | I18: ='rio grande do norte'!F169 -> 2465439 | J18: ='rio grande do norte'!G169 -> 702694 | K18: ='rio grande do norte'!H169 -> 3168133 | L18: ='rio grande do norte'!I169 -> 167
E19: Sergipe | F19: =sergipe!C77 -> 1784475 | G19: =sergipe!D77 -> 1005049 | H19: =sergipe!E77 -> 1062982 | I19: =sergipe!F77 -> 1520243 | J19: =sergipe!G77 -> 547788 | K19: =sergipe!H77 -> 2068031 | L19: =sergipe!I77 -> 75
C20: Total | D20: Nordeste | F20: =SUBTOTAL(9,F11:F19) -> 47741711 | G20: =SUBTOTAL(9,G11:G19) -> 25906209 | H20: =SUBTOTAL(9,H11:H19) -> 27171928 | I20: =SUBTOTAL(9,I11:I19) -> 38816895 | J20: =SUBTOTAL(9,J11:J19) -> 14261242 | K20: =SUBTOTAL(9,K11:K19) -> 53078137 | L20: =SUBTOTAL(9,L11:L19) -> 1794
C22: 3 | D22: Sudeste | E22: Espírito Santo | F22: ='Espirito Santo'!C80 -> 3097232 | G22: ='Espirito Santo'!D80 -> 1729670 | H22: ='Espirito Santo'!E80 -> 1783002 | I22: ='Espirito Santo'!F80 -> 2928993 | J22: ='Espirito Santo'!G80 -> 583679 | K22: ='Espirito Santo'!H80 -> 3512672 | L22: ='Espirito Santo'!I80 -> 78
E23: Minas Gerais | F23: ='Minas Gerais'!C855 -> 17891494 | G23: ='Minas Gerais'!D855 -> 9640695 | H23: ='Minas Gerais'!E855 -> 9954614 | I23: ='Minas Gerais'!F855 -> 16713654 | J23: ='Minas Gerais'!G855 -> 2881655 | K23: ='Minas Gerais'!H855 -> 19595309 | L23: ='Minas Gerais'!I855 -> 853
E24: Rio de Janeiro | F24: ='rio de janeiro'!C94 -> 14391282 | G24: ='rio de janeiro'!D94 -> 7626920 | H24: ='rio de janeiro'!E94 -> 8366663 | I24: ='rio de janeiro'!F94 -> 15466996 | J24: ='rio de janeiro'!G94 -> 526587 | K24: ='rio de janeiro'!H94 -> 15993583 | L24: ='rio de janeiro'!I94 -> 92
E25: São Paulo | F25: ='sao paulo'!C647 -> 37032403 | G25: ='sao paulo'!D647 -> 20071766 | H25: ='sao paulo'!E647 -> 21180394 | I25: ='sao paulo'!F647 -> 39552234 | J25: ='sao paulo'!G647 -> 1699926 | K25: ='sao paulo'!H647 -> 41252160 | L25: ='sao paulo'!I647 -> 645
C26: Total | D26: Sudeste | F26: =SUBTOTAL(9,F22:F25) -> 72412411 | G26: =SUBTOTAL(9,G22:G25) -> 39069051 | H26: =SUBTOTAL(9,H22:H25) -> 41284673 | I26: =SUBTOTAL(9,I22:I25) -> 74661877 | J26: =SUBTOTAL(9,J22:J25) -> 5691847 | K26: =SUBTOTAL(9,K22:K25) -> 80353724 | L26: =SUBTOTAL(9,L22:L25) -> 1668
C28: 4 | D28: Sul | E28: Paraná | F28: =Parana!C401 -> 9563458 | G28: =Parana!D401 -> 5128503 | H28: =Parana!E401 -> 5311098 | I28: =Parana!F401 -> 8906442 | J28: =Parana!G401 -> 1533159 | K28: =Parana!H401 -> 10439601 | L28: =Parana!I401 -> 399
E29: Rio Grande do Sul | F29: ='rio grande do sul'!C498 -> 10187798 | G29: ='rio grande do sul'!D498 -> 5205705 | H29: ='rio grande do sul'!E498 -> 5489827 | I29: ='rio grande do sul'!F498 -> 9102241 | J29: ='rio grande do sul'!G498 -> 1593291 | K29: ='rio grande do sul'!H498 -> 10695532 | L29: ='rio grande do sul'!I498 -> 496
E30: Santa Catarina | F30: ='santa catarina'!C295 -> 5356360 | G30: ='santa catarina'!D295 -> 3101087 | H30: ='santa catarina'!E295 -> 3148595 | I30: ='santa catarina'!F295 -> 5249197 | J30: ='santa catarina'!G295 -> 1000485 | K30: ='santa catarina'!H295 -> 6249682 | L30: ='santa catarina'!I295 -> 293
C31: Total | D31: Sul | F31: =SUBTOTAL(9,F28:F30) -> 25107616 | G31: =SUBTOTAL(9,G28:G30) -> 13435295 | H31: =SUBTOTAL(9,H28:H30) -> 13949520 | I31: =SUBTOTAL(9,I28:I30) -> 23257880 | J31: =SUBTOTAL(9,J28:J30) -> 4126935 | K31: =SUBTOTAL(9,K28:K30) -> 27384815 | L31: =SUBTOTAL(9,L28:L30) -> 1188
C33: 5 | D33: Centro-Oeste | E33: Distrito Federal | F33: ='Distrito Federal'!C3 -> 2051146 | G33: ='Distrito Federal'!D3 -> 1225237 | H33: ='Distrito Federal'!E3 -> 1337726 | I33: ='Distrito Federal'!F3 -> 2476249 | J33: ='Distrito Federal'!G3 -> 86714 | K33: ='Distrito Federal'!H3 -> 2562963 | L33: ='Distrito Federal'!I3 -> 1
E34: Goiás | F34: =Goias!C248 -> 5003228 | G34: =Goias!D248 -> 2981542 | H34: =Goias!E248 -> 3022503 | I34: =Goias!F248 -> 5421069 | J34: =Goias!G248 -> 582976 | K34: =Goias!H248 -> 6004045 | L34: =Goias!I248 -> 246
E35: Mato Grosso | F35: ='Mato Grosso'!C143 -> 2504353 | G35: ='Mato Grosso'!D143 -> 1548894 | H35: ='Mato Grosso'!E143 -> 1485097 | I35: ='Mato Grosso'!F143 -> 2484838 | J35: ='Mato Grosso'!G143 -> 549153 | K35: ='Mato Grosso'!H143 -> 3033991 | L35: ='Mato Grosso'!I143 -> 141
E36: Mato Grosso do Sul | F36: ='Mato Grosso do Sul'!C80 -> 2078001 | G36: ='Mato Grosso do Sul'!D80 -> 1220175 | H36: ='Mato Grosso do Sul'!E80 -> 1229166 | I36: ='Mato Grosso do Sul'!F80 -> 2097716 | J36: ='Mato Grosso do Sul'!G80 -> 351625 | K36: ='Mato Grosso do Sul'!H80 -> 2449341 | L36: ='Mato Grosso do Sul'!I80 -> 78
C37: Total | D37: Centro-Oeste | F37: =SUBTOTAL(9,F33:F36) -> 11636728 | G37: =SUBTOTAL(9,G33:G36) -> 6975848 | H37: =SUBTOTAL(9,H33:H36) -> 7074492 | I37: =SUBTOTAL(9,I33:I36) -> 12479872 | J37: =SUBTOTAL(9,J33:J36) -> 1570468 | K37: =SUBTOTAL(9,K33:K36) -> 14050340 | L37: =SUBTOTAL(9,L33:L36) -> 466
C39: Total | D39: Geral | E39: Brasil | F39: =SUBTOTAL(9,F2:F38) -> 169799170 | G39: =SUBTOTAL(9,G2:G38) -> 93390532 | H39: =SUBTOTAL(9,H2:H38) -> 97342162 | I39: =SUBTOTAL(9,I2:I38) -> 160879708 | J39: =SUBTOTAL(9,J2:J38) -> 29852986 | K39: =SUBTOTAL(9,K2:K38) -> 190732694 | L39: =SUBTOTAL(9,L2:L38) -> 5565
A41: Fonte: Sumário das Planilhas IBGE, Resultados do Censo 2010.

Sheet Acre
A1: Código do município | B1: Nome do município | C1: Total da população 2000 | D1: Total de homens | E1: Total de mulheres | F1: Total da população urbana | G1: Total da população rural | H1: Total da população 2010 | I1: Qtde Cidades | J1: Latitude | K1: Longitude
A2: 1200013 | B2: Acrelândia | C2: 7935 | D2: 6597 | E2: 5941 | F2: 5916 | G2: 6622 | H2: 12538 | J2: -9.8278 | K2: -66.8833
A3: 1200054 | B3: Assis Brasil | C3: 3490 | D3: 3091 | E3: 2984 | F3: 3703 | G3: 2372 | H3: 6075 | J3: -10.9414 | K3: -69.5669
A4: 1200104 | B4: Brasiléia | C4: 17013 | D4: 11060 | E4: 10378 | F4: 14299 | G4: 7139 | H4: 21438 | J4: -11.0161 | K4: -68.7481
A5: 1200138 | B5: Bujari | C5: 5826 | D5: 4560 | E5: 3914 | F5: 3681 | G5: 4793 | H5: 8474 | J5: -9.8306 | K5: -67.9522
A6: 1200179 | B6: Capixaba | C6: 5206 | D6: 4658 | E6: 4152 | F6: 3928 | G6: 4882 | H6: 8810 | J6: -10.5728 | K6: -67.6756
A7: 1200203 | B7: Cruzeiro do Sul | C7: 67441 | D7: 39185 | E7: 39259 | F7: 55259 | G7: 23185 | H7: 78444 | J7: -7.6311 | K7: -72.67
A8: 1200252 | B8: Epitaciolândia | C8: 11028 | D8: 7636 | E8: 7490 | F8: 10622 | G8: 4504 | H8: 15126 | J8: -11.0289 | K8: -68.7414
A9: 1200302 | B9: Feijó | C9: 26722 | D9: 16660 | E9: 15651 | F9: 16635 | G9: 15676 | H9: 32311 | J9: -8.1642 | K9: -70.3536
A10: 1200328 | B10: Jordão | C10: 4454 | D10: 3396 | E10: 3135 | F10: 2265 | G10: 4266 | H10: 6531 | J10: -9.4342 | K10: -71.8839
A11: 1200336 | B11: Mâncio Lima | C11: 11095 | D11: 7856 | E11: 7390 | F11: 8782 | G11: 6464 | H11: 15246 | J11: -7.6142 | K11: -72.8958
A12: 1200344 | B12: Manoel Urbano | C12: 6374 | D12: 4256 | E12: 3733 | F12: 5285 | G12: 2704 | H12: 7989 | J12: -8.8389 | K12: -69.2597
A13: 1200351 | B13: Marechal Thaumaturgo | C13: 8295 | D13: 7437 | E13: 6763 | F13: 3971 | G13: 10229 | H13: 14200 | J13: -8.9411 | K13: -72.7917
... A23: 1200708 | B23: Xapuri | C23: 11956 | D23: 8310 | E23: 7706 | F23: 10270 | G23: 5746 | H23: 16016 | J23: -10.6517 | K23: -68.5044
A24: Total | B24: Acre | C24: =SUM(C2:C23) -> 557526 | D24: =SUM(D2:D23) -> 367864 | E24: =SUM(E2:E23) -> 364929 | F24: =SUM(F2:F23) -> 532080 | G24: =SUM(G2:G23) -> 200713 | H24: =SUM(H2:H23) -> 732793 | I24: =COUNTA(A2:A23) -> 22
A25: Fonte: IBGE, Resultados do Censo 2010.

Sheet Alagoas
A1: Código do município | B1: Nome do município | C1: Total da população 2000 | D1: Total de homens | E1: Total de mulheres | F1: Total da população urbana | G1: Total da população rural | H1: Total da população 2010 | I1: Qtde Cidades | J1: Latitude | K1: Longitude
A2: 2700102 | B2: Água Branca | C2: 18660 | D2: 9650 | E2: 9726 | F2: 5100 | G2: 14276 | H2: 19376 | J2: -5.8922 | K2: -42.6361
A3: 2700201 | B3: Anadia | C3: 17849 | D3: 8563 | E3: 8860 | F3: 8950 | G3: 8473 | H3: 17423 | J3: -9.6844 | K3: -36.3042
A4: 2700300 | B4: Arapiraca | C4: 186466 | D4: 101901 | E4: 112166 | F4: 181562 | G4: 32505 | H4: 214067 | J4: -9.7525 | K4: -36.6611
A5: 2700409 | B5: Atalaia | C5: 40552 | D5: 22230 | E5: 22149 | F5: 22451 | G5: 21928 | H5: 44379 | J5: -23.1511 | K5: -52.0544
A6: 2700508 | B6: Barra de Santo Antônio | C6: 11351 | D6: 7076 | E6: 7152 | F6: 13240 | G6: 988 | H6: 14228 | J6: -9.4047 | K6: -35.5072
A7: 2700607 | B7: Barra de São Miguel | C7: 6379 | D7: 3765 | E7: 3808 | F7: 6521 | G7: 1052 | H7: 7573 | J7: -7.7511 | K7: -36.3181
A8: 2700706 | B8: Batalha | C8: 14799 | D8: 8386 | E8: 8690 | F8: 12042 | G8: 5034 | H8: 17076 | J8: -4.025 | K8: -42.075
A9: 2700805 | B9: Belém | C9: 5919 | D9: 2222 | E9: 2329 | F9: 1872 | G9: 2679 | H9: 4551 | J9: -1.4558 | K9: -48.5044
A10: 2700904 | B10: Belo Monte | C10: 6822 | D10: 3551 | E10: 3481 | F10: 1171 | G10: 5861 | H10: 7032 | J10: -9.8283 | K10: -37.28
A11: 2701001 | B11: Boca da Mata | C11: 24227 | D11: 12772 | E11: 13008 | F11: 17455 | G11: 8325 | H11: 25780 | J11: -9.6414 | K11: -36.2203
A12: 2701100 | B12: Branquinha | C12: 11325 | D12: 5379 | E12: 5207 | F12: 6673 | G12: 3913 | H12: 10586 | J12: -9.2456 | K12: -36.0153
A13: 2701209 | B13: Cacimbinhas | C13: 9552 | D13: 5049 | E13: 5148 | F13: 5404 | G13: 4793 | H13: 10197 | J13: -9.4003 | K13: -36.9903
... A103: 2709400 | B103: Viçosa | C103: 26263 | D103: 12420 | E103: 13024 | F103: 18336 | G103: 7108 | H103: 25444 | J103: -5.9944 | K103: -37.9444
A104: Total | B104: Alagoas | C104: =SUM(C2:C103) -> 2822621 | D104: =SUM(D2:D103) -> 1511947 | E104: =SUM(E2:E103) -> 1608975 | F104: =SUM(F2:F103) -> 2298091 | G104: =SUM(G2:G103) -> 822831 | H104: =SUM(H2:H103) -> 3120922 | I104: =COUNTA($A$2:A103) -> 102
A105: Fonte: IBGE, Resultados do Censo 2010.

Sheet Amapa
A1: Código do município | B1: Nome do município | C1: Total da população 2000 | D1: Total de homens | E1: Total de mulheres | F1: Total da população urbana | G1: Total da população rural | H1: Total da população 2010 | I1: Qtde Cidades | J1: Latitude | K1: Longitude
A2: 1600105 | B2: Amapá | C2: 7121 | D2: 4186 | E2: 3819 | F2: 6926 | G2: 1079 | H2: 8005 | J2: 19.9467 | K2: -50.7931
A3: 1600204 | B3: Calçoene | C3: 6730 | D3: 4795 | E3: 4169 | F3: 7301 | G3: 1663 | H3: 8964 | J3: 21.5025 | K3: -50.9486
A4: 1600212 | B4: Cutias | C4: 3280 | D4: 2393 | E4: 2241 | F4: 2409 | G4: 2225 | H4: 4634 | J4: 4.0139 | K4: -50.8022
A5: 1600238 | B5: Ferreira Gomes | C5: 3562 | D5: 3033 | E5: 2739 | F5: 4161 | G5: 1611 | H5: 5772 | J5: 4.1417 | K5: -51.18
A6: 1600253 | B6: Itaubal | C6: 2894 | D6: 2317 | E6: 1950 | F6: 1766 | G6: 2501 | H6: 4267 | J6: 3.2883 | K6: -50.8
A7: 1600279 | B7: Laranjal do Jari | C7: 28515 | D7: 20350 | E7: 19455 | F7: 37824 | G7: 1981 | H7: 39805 | J7: -1.12 | K7: -52
A8: 1600303 | B8: Macapá | C8: 283308 | D8: 195497 | E8: 202416 | F8: 380937 | G8: 16976 | H8: 397913 | J8: -0.0389 | K8: -51.0664
A9: 1600402 | B9: Mazagão | C9: 11986 | D9: 8977 | E9: 8053 | F9: 8280 | G9: 8750 | H9: 17030 | J9: -0.115 | K9: -51.2894
A10: 1600501 | B10: Oiapoque | C10: 12886 | D10: 10666 | E10: 9760 | F10: 13873 | G10: 6553 | H10: 20426 | J10: 34.1569 | K10: -51.835
A11: 1600154 | B11: Pedra Branca do Amaparí | C11: 4009 | D11: 5833 | E11: 4940 | F11: 5970 | G11: 4803 | H11: 10773 | J11: 3.2219 | K11: -51.9436
A12: 1600535 | B12: Porto Grande | C12: 11042 | D12: 8903 | E12: 7922 | F12: 10759 | G12: 6066 | H12: 16825 | J12: 3.2867 | K12: -51.4133
A13: 1600550 | B13: Pracuúba | C13: 2286 | D13: 1990 | E13: 1793 | F13: 1867 | G13: 1916 | H13: 3783 | J13: 13.2567 | K13: -50.7914
... A17: 1600808 | B17: Vitória do Jari | C17: 8560 | D17: 6439 | E17: 6006 | F17: 10318 | G17: 2127 | H17: 12445 | J17: -0.9172 | K17: -52.4081
A18: Total | B18: Amapá | C18: =SUM(C2:C17) -> 477032 | D18: =SUM(D2:D17) -> 334674 | E18: =SUM(E2:E17) -> 334015 | F18: =SUM(F2:F17) -> 600561 | G18: =SUM(G2:G17) -> 68128 | H18: =SUM(H2:H17) -> 668689 | I18: =COUNTA($A$2:A17) -> 16 | J18: 19.9467 | K18: -50.7931
A19: Fonte: IBGE, Resultados do Censo 2010.

Sheet Amazonas
A1: Código do município | B1: Nome do município | C1: Total da população 2000 | D1: Total de homens | E1: Total de mulheres | F1: Total da população urbana | G1: Total da população rural | H1: Total da população 2010 | I1: Qtde Cidades | J1: Latitude | K1: Longitude
A2: 1300029 | B2: Alvarães | C2: 12150 | D2: 7408 | E2: 6672 | F2: 7878 | G2: 6202 | H2: 14080 | J2: -3.2208 | K2: -64.8042
A3: 1300060 | B3: Amaturá | C3: 7308 | D3: 4986 | E3: 4671 | F3: 4945 | G3: 4712 | H3: 9657 | J3: -3.3642 | K3: -68.1978
A4: 1300086 | B4: Anamã | C4: 6563 | D4: 5434 | E4: 4759 | F4: 4174 | G4: 6019 | H4: 10193 | J4: -3.5797 | K4: -61.4042
A5: 1300102 | B5: Anori | C5: 11320 | D5: 8497 | E5: 7792 | F5: 9989 | G5: 6300 | H5: 16289 | J5: -3.7728 | K5: -61.6442
A6: 1300144 | B6: Apuí | C6: 13864 | D6: 9571 | E6: 8488 | F6: 10606 | G6: 7453 | H6: 18059 | J6: -7.1972 | K6: -59.8914
A7: 1300201 | B7: Atalaia do Norte | C7: 10049 | D7: 7851 | E7: 7298 | F7: 6891 | G7: 8258 | H7: 15149 | J7: -4.3722 | K7: -70.1919
A8: 1300300 | B8: Autazes | C8: 24345 | D8: 16829 | E8: 15047 | F8: 13885 | G8: 17991 | H8: 31876 | J8: -3.5797 | K8: -59.1306
A9: 1300409 | B9: Barcelos | C9: 24197 | D9: 13814 | E9: 11901 | F9: 11160 | G9: 14555 | H9: 25715 | J9: -0.9747 | K9: -62.9242
A10: 1300508 | B10: Barreirinha | C10: 22579 | D10: 14316 | E10: 13045 | F10: 12422 | G10: 14939 | H10: 27361 | J10: -2.7933 | K10: -57.07
A11: 1300607 | B11: Benjamin Constant | C11: 23219 | D11: 17246 | E11: 16145 | F11: 20132 | G11: 13259 | H11: 33391 | J11: -4.3831 | K11: -70.0311
A12: 1300631 | B12: Beruri | C12: 11038 | D12: 8153 | E12: 7347 | F12: 7795 | G12: 7705 | H12: 15500 | J12: -3.8983 | K12: -61.3731
A13: 1300680 | B13: Boa Vista do Ramos | C13: 10482 | D13: 7948 | E13: 6973 | F13: 7521 | G13: 7400 | H13: 14921 | J13: -2.9697 | K13: -57.5903
... A63: 1304401 | B63: Urucurituba | C63: 12264 | D63: 9467 | E63: 8264 | F63: 10355 | G63: 7376 | H63: 17731 | J63: -3.1308 | K63: -58.155
A64: Total | B64: Amazonas | C64: =SUM(C2:C63) -> 2812557 | D64: =SUM(D2:D63) -> 1751328 | E64: =SUM(E2:E63) -> 1729609 | F64: =SUM(F2:F63) -> 2755756 | G64: =SUM(G2:G63) -> 725181 | H64: =SUM(H2:H63) -> 3480937 | I64: =COUNTA($A$2:A63) -> 62
A65: Fonte: IBGE, Resultados do Censo 2010.

Sheet Bahia
A1: Código do município | B1: Nome do município | C1: Total da população 2000 | D1: Total de homens | E1: Total de mulheres | F1: Total da população urbana | G1: Total da população rural | H1: Total da população 2010 | I1: Qtde Cidades | J1: Latitude | K1: Longitude
A2: 2900108 | B2: Abaíra | C2: 9067 | D2: 4088 | E2: 4236 | F2: 3744 | G2: 4580 | H2: 8324 | J2: -13.2497 | K2: -41.6636
A3: 2900207 | B3: Abaré | C3: 13648 | D3: 8566 | E3: 8506 | F3: 9035 | G3: 8037 | H3: 17072 | J3: -8.7203 | K3: -39.1139
A4: 2900306 | B4: Acajutiba | C4: 14322 | D4: 7300 | E4: 7530 | F4: 12786 | G4: 2044 | H4: 14830 | J4: -11.6622 | K4: -38.0172
A5: 2900355 | B5: Adustina | C5: 14302 | D5: 7908 | E5: 7798 | F5: 5574 | G5: 10132 | H5: 15706 | J5: -10.5333 | K5: -38.1
A6: 2900405 | B6: Água Fria | C6: 14718 | D6: 7903 | E6: 7823 | F6: 5777 | G6: 9949 | H6: 15726 | J6: -11.8667 | K6: -38.7667
A7: 2900603 | B7: Aiquara | C7: 5315 | D7: 2351 | E7: 2251 | F7: 2680 | G7: 1922 | H7: 4602 | J7: -14.1294 | K7: -39.8878
A8: 2900702 | B8: Alagoinhas | C8: 130095 | D8: 67381 | E8: 74779 | F8: 124245 | G8: 17915 | H8: 142160 | J8: -12.1356 | K8: -38.4192
A9: 2900801 | B9: Alcobaça | C9: 20900 | D9: 10842 | E9: 10477 | F9: 11112 | G9: 10207 | H9: 21319 | J9: -17.5194 | K9: -39.1956
A10: 2900900 | B10: Almadina | C10: 7862 | D10: 3202 | E10: 3158 | F10: 5080 | G10: 1280 | H10: 6360 | J10: -14.7053 | K10: -39.6372
A11: 2901007 | B11: Amargosa | C11: 31108 | D11: 16634 | E11: 17706 | F11: 24895 | G11: 9445 | H11: 34340 | J11: -13.0303 | K11: -39.6047
A12: 2901106 | B12: Amélia Rodrigues | C12: 24134 | D12: 12283 | E12: 12907 | F12: 19957 | G12: 5233 | H12: 25190 | J12: -12.3917 | K12: -38.7567
A13: 2901155 | B13: América Dourada | C13: 15959 | D13: 8071 | E13: 7881 | F13: 10845 | G13: 5107 | H13: 15952 | J13: -11.4553 | K13: -41.4361
... A418: 2933604 | B418: Xique-Xique | C418: 44718 | D418: 22536 | E418: 23026 | F418: 32552 | G418: 13010 | H418: 45562 | J418: -10.8217 | K418: -42.7311
A419: Total | B419: Bahia | C419: =SUM(C2:C418) -> 13070250 | D419: =SUM(D2:D418) -> 6880368 | E419: =SUM(E2:E418) -> 7141064 | F419: =SUM(F2:F418) -> 10105218 | G419: =SUM(G2:G418) -> 3916214 | H419: =SUM(H2:H418) -> 14021432 | I419: =COUNTA($A$2:A418) -> 417 | J419: ??
A420: Fonte: IBGE, Resultados do Censo 2010.

Sheet Ceara
A1: Código do município | B1: Nome do município | C1: Total da população 2000 | D1: Total de homens | E1: Total de mulheres | F1: Total da população urbana | G1: Total da população rural | H1: Total da população 2010 | I1: Qtde Cidades | J1: Latitude | K1: Longitude
A2: 2300101 | B2: Abaiara | C2: 8385 | D2: 5215 | E2: 5274 | F2: 4552 | G2: 5937 | H2: 10489 | J2: -7.3589 | K2: -39.0456
A3: 2300150 | B3: Acarapé | C3: 12927 | D3: 7570 | E3: 7767 | F3: 7982 | G3: 7355 | H3: 15337 | J3: -4.2242 | K3: -38.7083
A4: 2300200 | B4: Acaraú | C4: 48968 | D4: 29093 | E4: 28449 | F4: 28237 | G4: 29305 | H4: 57542 | J4: -2.8856 | K4: -40.12
A5: 2300309 | B5: Acopiara | C5: 47137 | D5: 25629 | E5: 25542 | F5: 25237 | G5: 25934 | H5: 51171 | J5: -6.0953 | K5: -39.4525
A6: 2300408 | B6: Aiuaba | C6: 14452 | D6: 8119 | E6: 8088 | F6: 3955 | G6: 12252 | H6: 16207 | J6: -6.5736 | K6: -40.1236
A7: 2300507 | B7: Alcântaras | C7: 9548 | D7: 5315 | E7: 5458 | F7: 3450 | G7: 7323 | H7: 10773 | J7: -3.5889 | K7: -40.5456
A8: 2300606 | B8: Altaneira | C8: 5687 | D8: 3313 | E8: 3538 | F8: 4952 | G8: 1899 | H8: 6851 | J8: -7.0017 | K8: -39.7406
A9: 2300705 | B9: Alto Santo | C9: 15394 | D9: 8218 | E9: 8142 | F9: 8040 | G9: 8320 | H9: 16360 | J9: -5.5208 | K9: -38.2717
A10: 2300754 | B10: Amontada | C10: 32333 | D10: 20360 | E10: 18873 | F10: 15949 | G10: 23284 | H10: 39233 | J10: -3.4944 | K10: -39.5786
A11: 2300804 | B11: Antonina do Norte | C11: 6509 | D11: 3344 | E11: 3640 | F11: 4999 | G11: 1985 | H11: 6984 | J11: -6.775 | K11: -39.9892
A12: 2300903 | B12: Apuiarés | C12: 12540 | D12: 7073 | E12: 6854 | F12: 5774 | G12: 8153 | H12: 13927 | J12: -3.9489 | K12: -39.4317
A13: 2301000 | B13: Aquiraz | C13: 60469 | D13: 37142 | E13: 35509 | F13: 67103 | G13: 5548 | H13: 72651 | J13: -3.9014 | K13: -38.3911
... A141: 2310803 | B141: Pereiro | C141: 15225 | D141: 7766 | E141: 7998 | F141: 5433 | G141: 10331 | H141: 15764 | J141: -6.0417 | K141: -38.4597
A142: 2310852 | B142: Pindoretama | C142: 14951 | D142: 9345 | E142: 9346 | F142: 11289 | G142: 7402 | H142: 18691 | J142: -4.0269 | K142: -38.305
A143: 2310902 | B143: Piquet Carneiro | C143: 13131 | D143: 7804 | E143: 7697 | F143: 7451 | G143: 8050 | H143: 15501 | J143: -5.8036 | K143: -39.4178
A144: 2310951 | B144: Pires Ferreira | C144: 8643 | D144: 5139 | E144: 5077 | F144: 3354 | G144: 6862 | H144: 10216 | J144: -4.2467 | K144: -40.6453
A145: 2311009 | B145: Poranga | C145: 11737 | D145: 5976 | E145: 6027 | F145: 7800 | G145: 4203 | H145: 12003 | J145: -4.7447 | K145: -40.9261
A146: 2311108 | B146: Porteiras | C146: 15658 | D146: 7370 | E146: 7695 | F146: 6179 | G146: 8886 | H146: 15065 | J146: -7.5347 | K146: -39.1183
A147: 2311207 | B147: Potengi | C147: 9138 | D147: 4987 | E147: 5289 | F147: 5714 | G147: 4562 | H147: 10276 | J147: -7.0906 | K147: -40.0267
A148: 2311231 | B148: Potiretama | C148: 5768 | D148: 3161 | E148: 2968 | F148: 2707 | G148: 3422 | H148: 6129 | J148: -5.7239 | K148: -38.1561
A149: 2311264 | B149: Quiterianópolis | C149: 18355 | D149: 9853 | E149: 10065 | F149: 6305 | G149: 13613 | H149: 19918 | J149: -5.8431 | K149: -40.7008
A150: 2311306 | B150: Quixadá | C150: 69654 | D150: 39768 | E150: 40837 | F150: 57482 | G150: 23123 | H150: 80605 | J150: -4.9714 | K150: -39.0153
A151: 2311355 | B151: Quixelô | C151: 15596 | D151: 7549 | E151: 7451 | F151: 4929 | G151: 10071 | H151: 15000 | J151: -6.2544 | K151: -39.2019
A152: 2311405 | B152: Quixeramobim | C152: 59235 | D152: 35739 | E152: 36173 | F152: 43446 | G152: 28466 | H152: 71912 | J152: -5.1992 | K152: -39.2928
A153: 2311504 | B153: Quixeré | C153: 16862 | D153: 9712 | E153: 9710 | F153: 11936 | G153: 7486 | H153: 19422 | J153: -5.0742 | K153: -37.9886
... A185: 2314102 | B185: Viçosa do Ceará | C185: 45427 | D185: 27668 | E185: 27293 | F185: 17827 | G185: 37134 | H185: 54961 | J185: -3.5622 | K185: -41.0922
A186: Total | B186: Ceará | C186: =SUM(C2:C185) -> 7430661 | D186: =SUM(D2:D185) -> 4118066 | E186: =SUM(E2:E185) -> 4329989 | F186: =SUM(F2:F185) -> 6343990 | G186: =SUM(G2:G185) -> 2104065 | H186: =SUM(H2:H185) -> 8448055 | I186: =COUNTA($A$2:A185) -> 184
A187: Fonte: IBGE, Resultados do Censo 2010.

Sheet Distrito Federal
A1: Código do município | B1: Nome do município | C1: Total da população 2000 | D1: Total de homens | E1: Total de mulheres | F1: Total da população urbana | G1: Total da população rural | H1: Total da população 2010 | I1: Qtde Cidades | J1: Latitude | K1: Longitude
A2: 5300108 | B2: Brasília | C2: 2051146 | D2: 1225237 | E2: 1337726 | F2: 2476249 | G2: 86714 | H2: 2562963 | J2: -15.7797 | K2: -47.9297
A3: Total | B3: Distrito Federal | C3: =(C2) -> 2051146 | D3: =(D2) -> 1225237 | E3: =(E2) -> 1337726 | F3: =(F2) -> 2476249 | G3: =(G2) -> 86714 | H3: =(H2) -> 2562963 | I3: =COUNTA($A$2:A2) -> 1
A4: Fonte: IBGE, Resultados do Censo 2010.

Sheet Espirito Santo
A1: Código do município | B1: Nome do município | C1: Total da população 2000 | D1: Total de homens | E1: Total de mulheres | F1: Total da população urbana | G1: Total da população rural | H1: Total da população 2010 | I1: Qtde Cidades | J1: Latitude | K1: Longitude
A2: 3200102 | B2: Afonso Cláudio | C2: 32232 | D2: 15684 | E2: 15402 | F2: 15861 | G2: 15225 | H2: 31086 | J2: -20.0742 | K2: -41.1239
A3: 3200169 | B3: Água Doce do Norte | C3: 12751 | D3: 5956 | E3: 5815 | F3: 6699 | G3: 5072 | H3: 11771 | J3: -18.5469 | K3: -40.9786
A4: 3200136 | B4: Águia Branca | C4: 9599 | D4: 4900 | E4: 4617 | F4: 3051 | G4: 6466 | H4: 9517 | J4: -18.9831 | K4: -40.7403
A5: 3200201 | B5: Alegre | C5: 31714 | D5: 15288 | E5: 15496 | F5: 21521 | G5: 9263 | H5: 30784 | J5: -20.7636 | K5: -41.5331
A6: 3200300 | B6: Alfredo Chaves | C6: 13616 | D6: 7107 | E6: 6853 | F6: 6557 | G6: 7403 | H6: 13960 | J6: -20.635 | K6: -40.7497
A7: 3200359 | B7: Alto Rio Novo | C7: 6964 | D7: 3658 | E7: 3645 | F7: 4239 | G7: 3064 | H7: 7303 | J7: -19.0561 | K7: -41.0167
A8: 3200409 | B8: Anchieta | C8: 19176 | D8: 12057 | E8: 11837 | F8: 18153 | G8: 5741 | H8: 23894 | J8: -20.8058 | K8: -40.6456
A9: 3200508 | B9: Apiacá | C9: 7615 | D9: 3779 | E9: 3734 | F9: 5212 | G9: 2301 | H9: 7513 | J9: -21.1536 | K9: -41.5675
A10: 3200607 | B10: Aracruz | C10: 64637 | D10: 40768 | E10: 40978 | F10: 71407 | G10: 10339 | H10: 81746 | J10: -19.8203 | K10: -40.2733
A11: 3200706 | B11: Atilio Vivacqua | C11: 8327 | D11: 4990 | E11: 4850 | F11: 6114 | G11: 3726 | H11: 9840 | J11: -20.9142 | K11: -41.1983
A12: 3200805 | B12: Baixo Guandu | C12: 27819 | D12: 14220 | E12: 14866 | F12: 22519 | G12: 6567 | H12: 29086 | J12: -19.5189 | K12: -41.0158
A13: 3200904 | B13: Barra de São Francisco | C13: 37597 | D13: 20373 | E13: 20237 | F13: 26340 | G13: 14270 | H13: 40610 | J13: -18.755 | K13: -40.8908
... A79: 3205309 | B79: Vitória | C79: 292304 | D79: 152630 | E79: 172823 | F79: 325453 | G79: 0 | H79: 325453 | J79: -20.3194 | K79: -40.3378
A80: Total | B80: Espírito Santo | C80: =SUM(C2:C79) -> 3097232 | D80: =SUM(D2:D79) -> 1729670 | E80: =SUM(E2:E79) -> 1783002 | F80: =SUM(F2:F79) -> 2928993 | G80: =SUM(G2:G79) -> 583679 | H80: =SUM(H2:H79) -> 3512672 | I80: =COUNTA($A$2:A79) -> 78
A81: Fonte: IBGE, Resultados do Censo 2010.

Sheet Goias
A1: Código do município | B1: Nome do município | C1: Total da população 2000 | D1: Total de homens | E1: Total de mulheres | F1: Total da população urbana | G1: Total da população rural | H1: Total da população 2010 | I1: Qtde Cidades | J1: Latitude | K1: Longitude
A2: 5200050 | B2: Abadia de Goiás | C2: 4971 | D2: 3376 | E2: 3492 | F2: 5072 | G2: 1796 | H2: 6868 | J2: -16.7572 | K2: -49.4375
A3: 5200100 | B3: Abadiânia | C3: 11452 | D3: 8088 | E3: 7664 | F3: 10773 | G3: 4979 | H3: 15752 | J3: -16.2042 | K3: -48.7069
A4: 5200134 | B4: Acreúna | C4: 18301 | D4: 10380 | E4: 9903 | F4: 17700 | G4: 2583 | H4: 20283 | J4: -17.3956 | K4: -50.3769
A5: 5200159 | B5: Adelândia | C5: 2460 | D5: 1277 | E5: 1206 | F5: 2204 | G5: 279 | H5: 2483 | J5: -16.415 | K5: -50.1656
A6: 5200175 | B6: Água Fria de Goiás | C6: 4469 | D6: 2738 | E6: 2357 | F6: 2137 | G6: 2958 | H6: 5095 | J6: -14.9856 | K6: -47.7842
A7: 5200209 | B7: Água Limpa | C7: 2200 | D7: 1048 | E7: 964 | F7: 1425 | G7: 587 | H7: 2012 | J7: -18.0736 | K7: -48.7622
A8: 5200258 | B8: Águas Lindas de Goiás | C8: 105746 | D8: 79813 | E8: 79692 | F8: 159265 | G8: 240 | H8: 159505 | J8: -15.7619 | K8: -48.2817
A9: 5200308 | B9: Alexânia | C9: 20047 | D9: 12012 | E9: 11816 | F9: 19701 | G9: 4127 | H9: 23828 | J9: -16.0822 | K9: -48.5072
A10: 5200506 | B10: Aloândia | C10: 2128 | D10: 1045 | E10: 999 | F10: 1764 | G10: 280 | H10: 2044 | J10: -17.7272 | K10: -49.4803
A11: 5200555 | B11: Alto Horizonte | C11: 2564 | D11: 2351 | E11: 2154 | F11: 3863 | G11: 642 | H11: 4505 | J11: -14.1956 | K11: -49.3386
A12: 5200605 | B12: Alto Paraíso de Goiás | C12: 6182 | D12: 3400 | E12: 3464 | F12: 5202 | G12: 1662 | H12: 6864 | J12: -14.1325 | K12: -47.51
A13: 5200803 | B13: Alvorada do Norte | C13: 7560 | D13: 4113 | E13: 3980 | F13: 6882 | G13: 1211 | H13: 8093 | J13: -14.4808 | K13: -46.4922
... A247: 5222302 | B247: Vila Propício | C247: 4492 | D247: 2690 | E247: 2455 | F247: 1504 | G247: 3641 | H247: 5145 | J247: -15.4569 | K247: -48.8886
A248: Total | B248: Goiás | C248: =SUM(C2:C247) -> 5003228 | D248: =SUM(D2:D247) -> 2981542 | E248: =SUM(E2:E247) -> 3022503 | F248: =SUM(F2:F247) -> 5421069 | G248: =SUM(G2:G247) -> 582976 | H248: =SUM(H2:H247) -> 6004045 | I248: =COUNTA($A$2:A247) -> 246

Sheet Maranhao
A1: Código do município | B1: Nome do município | C1: Total da população 2000 | D1: Total de homens | E1: Total de mulheres | F1: Total da população urbana | G1: Total da população rural | H1: Total da população 2010 | I1: Qtde Cidades | J1: Latitude | K1: Longitude
A2: 2100055 | B2: Açailândia | C2: 88320 | D2: 52093 | E2: 51920 | F2: 78241 | G2: 25772 | H2: 104013 | J2: -4.9467 | K2: -47.5047
A3: 2100105 | B3: Afonso Cunha | C3: 4680 | D3: 3001 | E3: 2956 | F3: 3272 | G3: 2685 | H3: 5957 | J3: -4.1328 | K3: -43.3242
A4: 2100154 | B4: Água Doce do Maranhão | C4: 9703 | D4: 6026 | E4: 5564 | F4: 3124 | G4: 8466 | H4: 11590 | J4: -2.8406 | K4: -42.1122
A5: 2100204 | B5: Alcântara | C5: 21291 | D5: 11251 | E5: 10601 | F5: 6400 | G5: 15452 | H5: 21852 | J5: -2.4089 | K5: -44.4147
A6: 2100303 | B6: Aldeias Altas | C6: 18827 | D6: 12393 | E6: 11559 | F6: 13634 | G6: 10318 | H6: 23952 | J6: -4.6278 | K6: -43.4706
A7: 2100402 | B7: Altamira do Maranhão | C7: 8865 | D7: 5190 | E7: 5021 | F7: 3141 | G7: 7070 | H7: 10211 | J7: -4.0583 | K7: -45.4994
A8: 2100436 | B8: Alto Alegre do Maranhão | C8: 20162 | D8: 12272 | E8: 12324 | F8: 19374 | G8: 5222 | H8: 24596 | J8: -4.2128 | K8: -44.4464
A9: 2100477 | B9: Alto Alegre do Pindaré | C9: 30177 | D9: 15995 | E9: 15033 | F9: 9834 | G9: 21194 | H9: 31028 | J9: -3.69 | K9: -45.9028
A10: 2100501 | B10: Alto Parnaíba | C10: 10174 | D10: 5468 | E10: 5297 | F10: 7028 | G10: 3737 | H10: 10765 | J10: -9.1108 | K10: -45.9297
A11: 2100550 | B11: Amapá do Maranhão | C11: 5431 | D11: 3311 | E11: 3120 | F11: 4841 | G11: 1590 | H11: 6431 | J11: -1.5681 | K11: -45.9297
A12: 2100600 | B12: Amarante do Maranhão | C12: 31292 | D12: 19760 | E12: 18134 | F12: 15006 | G12: 22888 | H12: 37894 | J12: -5.5667 | K12: -46.7422
A13: 2100709 | B13: Anajatuba | C13: 22978 | D13: 12960 | E13: 12334 | F13: 7018 | G13: 18276 | H13: 25294 | J13: -3.2644 | K13: -44.6197
... A141: 2108306 | B141: Penalva | C141: 30299 | D141: 17397 | E141: 16849 | F141: 16575 | G141: 17671 | H141: 34246 | J141: -3.2942 | K141: -45.1736
A142: 2108405 | B142: Peri Mirim | C142: 13071 | D142: 6993 | E142: 6814 | F142: 3668 | G142: 10139 | H142: 13807 | J142: -2.5775 | K142: -44.8542
A143: 2108454 | B143: Peritoró | C143: 17336 | D143: 10119 | E143: 10155 | F143: 6827 | G143: 13447 | H143: 20274 | J143: -4.3833 | K143: -44.3333
A144: 2108504 | B144: Pindaré-Mirim | C144: 27517 | D144: 15220 | E144: 15925 | F144: 22402 | G144: 8743 | H144: 31145 | J144: -3.6083 | K144: -45.3433
A145: 2108603 | B145: Pinheiro | C145: 68030 | D145: 38066 | E145: 40081 | F145: 46458 | G145: 31689 | H145: 78147 | J145: -2.5214 | K145: -45.0825
A146: 2108702 | B146: Pio XII | C146: 28413 | D146: 11004 | E146: 11012 | F146: 12459 | G146: 9557 | H146: 22016 | J146: -3.8325 | K146: -45.1525
A147: 2108801 | B147: Pirapemas | C147: 15124 | D147: 8656 | E147: 8702 | F147: 11114 | G147: 6244 | H147: 17358 | J147: -3.7267 | K147: -44.2233
A148: 2108900 | B148: Poção de Pedras | C148: 22378 | D148: 9914 | E148: 9791 | F148: 8377 | G148: 11328 | H148: 19705 | J148: -4.6667 | K148: -44.85
A149: 2109007 | B149: Porto Franco | C149: 16840 | D149: 10832 | E149: 10674 | F149: 16865 | G149: 4641 | H149: 21506 | J149: -6.3383 | K149: -47.3992
A150: 2109056 | B150: Porto Rico do Maranhão | C150: 6380 | D150: 3211 | E150: 2851 | F150: 2432 | G150: 3630 | H150: 6062 | J150: -1.8925 | K150: -44.605
A151: 2109106 | B151: Presidente Dutra | C151: 39541 | D151: 21966 | E151: 22753 | F151: 31997 | G151: 12722 | H151: 44719 | J151: -11.2961 | K151: -41.9867
A152: 2109205 | B152: Presidente Juscelino | C152: 10693 | D152: 6006 | E152: 5531 | F152: 4120 | G152: 7417 | H152: 11537 | J152: -6.1056 | K152: -35.7133
A153: 2109239 | B153: Presidente Médici | C153: 5116 | D153: 3293 | E153: 3077 | F153: 3904 | G153: 2466 | H153: 6370 | J153: -11.1753 | K153: -61.9014
... A218: 2114007 | B218: Zé Doca | C218: 46134 | D218: 24891 | E218: 25269 | F218: 30856 | G218: 19304 | H218: 50160 | J218: -3.2747 | K218: -45.6583
A219: Total | B219: Maranhão | C219: =SUM(C2:C218) -> 5651475 | D219: =SUM(D2:D218) -> 3258860 | E219: =SUM(E2:E218) -> 3310823 | F219: =SUM(F2:F218) -> 4143728 | G219: =SUM(G2:G218) -> 2425955 | H219: =SUM(H2:H218) -> 6569683 | I219: =COUNTA($A$2:A218) -> 217
A220: Fonte: IBGE, Resultados do Censo 2010.

Sheet Mato Grosso
A1: Código do município | B1: Nome do município | C1: Total da população 2000 | D1: Total de homens | E1: Total de mulheres | F1: Total da população urbana | G1: Total da população rural | H1: Total da população 2010 | I1: Qtde Cidades | J1: Latitude | K1: Longitude
A2: 5100102 | B2: Acorizal | C2: 5817 | D2: 2900 | E2: 2616 | F2: 2927 | G2: 2589 | H2: 5516 | J2: -15.2047 | K2: -56.3658
A3: 5100201 | B3: Água Boa | C3: 16737 | D3: 10915 | E3: 9929 | F3: 16725 | G3: 4119 | H3: 20844 | J3: -14.05 | K3: -52.1586
A4: 5100250 | B4: Alta Floresta | C4: 46982 | D4: 25022 | E4: 24211 | F4: 42787 | G4: 6446 | H4: 49233 | J4: -9.8756 | K4: -56.0861
A5: 5100300 | B5: Alto Araguaia | C5: 11410 | D5: 8069 | E5: 7601 | F5: 13856 | G5: 1814 | H5: 15670 | J5: -17.3147 | K5: -53.2153
A6: 5100359 | B6: Alto Boa Vista | C6: 6206 | D6: 2731 | E6: 2518 | F6: 3180 | G6: 2069 | H6: 5249 | J6: -11.6744 | K6: -51.3878
A7: 5100409 | B7: Alto Garças | C7: 8335 | D7: 5402 | E7: 4919 | F7: 9425 | G7: 896 | H7: 10321 | J7: -16.9439 | K7: -53.5281
A8: 5100508 | B8: Alto Paraguai | C8: 8605 | D8: 5302 | E8: 4649 | F8: 6411 | G8: 3540 | H8: 9951 | J8: -14.5136 | K8: -56.4825
A9: 5100607 | B9: Alto Taquari | C9: 4476 | D9: 4284 | E9: 3816 | F9: 7346 | G9: 754 | H9: 8100 | J9: -17.8261 | K9: -53.2822
A10: 5100805 | B10: Apiacás | C10: 6665 | D10: 4633 | E10: 3905 | F10: 6357 | G10: 2181 | H10: 8538 | J10: -9.5436 | K10: -57.4492
A11: 5101001 | B11: Araguaiana | C11: 3426 | D11: 1648 | E11: 1573 | F11: 2190 | G11: 1031 | H11: 3221 | J11: -15.7339 | K11: -51.8314
A12: 5101209 | B12: Araguainha | C12: 1352 | D12: 585 | E12: 510 | F12: 944 | G12: 151 | H12: 1095 | J12: -16.8561 | K12: -53.0325
A13: 5101258 | B13: Araputanga | C13: 13675 | D13: 7610 | E13: 7777 | F13: 12206 | G13: 3181 | H13: 15387 | J13: -15.4711 | K13: -58.3531
... A142: 5108600 | B142: Vila Rica | C142: 15583 | D142: 11203 | E142: 10200 | F142: 13977 | G142: 7426 | H142: 21403 | J142: -10.0117 | K142: -51.1164
A143: Total | B143: Mato Grosso | C143: =SUM(C2:C142) -> 2504353 | D143: =SUM(D2:D142) -> 1548894 | E143: =SUM(E2:E142) -> 1485097 | F143: =SUM(F2:F142) -> 2484838 | G143: =SUM(G2:G142) -> 549153 | H143: =SUM(H2:H142) -> 3033991 | I143: =COUNTA($A$2:A142) -> 141

Sheet Mato Grosso do Sul
A1: Código do município | B1: Nome do município | C1: Total da população 2000 | D1: Total de homens | E1: Total de mulheres | F1: Total da população urbana | G1: Total da população rural | H1: Total da população 2010 | I1: Qtde Cidades | J1: Latitude | K1: Longitude
A2: 5000203 | B2: Água Clara | C2: 11015 | D2: 7552 | E2: 6877 | F2: 9598 | G2: 4831 | H2: 14429 | J2: -20.4481 | K2: -52.8781
A3: 5000252 | B3: Alcinópolis | C3: 3679 | D3: 2433 | E3: 2137 | F3: 3138 | G3: 1432 | H3: 4570 | J3: -18.3242 | K3: -53.7061
A4: 5000609 | B4: Amambaí | C4: 29484 | D4: 17379 | E4: 17360 | F4: 22383 | G4: 12356 | H4: 34739 | J4: -23.1042 | K4: -55.2258
A5: 5000708 | B5: Anastácio | C5: 22477 | D5: 11915 | E5: 11931 | F5: 19681 | G5: 4165 | H5: 23846 | J5: -20.4836 | K5: -55.8069
A6: 5000807 | B6: Anaurilândia | C6: 7955 | D6: 4308 | E6: 4186 | F6: 4322 | G6: 4172 | H6: 8494 | J6: -22.1875 | K6: -52.7178
A7: 5000856 | B7: Angélica | C7: 7356 | D7: 4707 | E7: 4463 | F7: 7680 | G7: 1490 | H7: 9170 | J7: -22.1533 | K7: -53.7711
A8: 5000906 | B8: Antônio João | C8: 7408 | D8: 4111 | E8: 4104 | F8: 6836 | G8: 1379 | H8: 8215 | J8: -22.1911 | K8: -55.9475
A9: 5001003 | B9: Aparecida do Taboado | C9: 18402 | D9: 11152 | E9: 11153 | F9: 20094 | G9: 2211 | H9: 22305 | J9: -20.0867 | K9: -51.0936
A10: 5001102 | B10: Aquidauana | C10: 43440 | D10: 22855 | E10: 22768 | F10: 35954 | G10: 9669 | H10: 45623 | J10: -20.4711 | K10: -55.7872
A11: 5001243 | B11: Aral Moreira | C11: 8055 | D11: 5269 | E11: 4986 | F11: 5361 | G11: 4894 | H11: 10255 | J11: -22.9339 | K11: -55.6353
A12: 5001508 | B12: Bandeirantes | C12: 6425 | D12: 3455 | E12: 3143 | F12: 4520 | G12: 2078 | H12: 6598 | J12: -19.9178 | K12: -54.3639
A13: 5001904 | B13: Bataguassu | C13: 16197 | D13: 10089 | E13: 9736 | F13: 15234 | G13: 4591 | H13: 19825 | J13: -21.7142 | K13: -52.4222
... A79: 5008404 | B79: Vicentina | C79: 5779 | D79: 2959 | E79: 2942 | F79: 4243 | G79: 1658 | H79: 5901 | J79: -22.4092 | K79: -54.4356
A80: Total | B80: Mato Grosso do Sul | C80: =SUM(C2:C79) -> 2078001 | D80: =SUM(D2:D79) -> 1220175 | E80: =SUM(E2:E79) -> 1229166 | F80: =SUM(F2:F79) -> 2097716 | G80: =SUM(G2:G79) -> 351625 | H80: =SUM(H2:H79) -> 2449341 | I80: =COUNTA($A$2:A79) -> 78
A81: Fonte: IBGE, Resultados do Censo 2010.

Sheet Minas Gerais
A1: Código do município | B1: Nome do município | C1: Total da população 2000 | D1: Total de homens | E1: Total de mulheres | F1: Total da população urbana | G1: Total da população rural | H1: Total da população 2010 | I1: Qtde Cidades | J1: Latitude | K1: Longitude
A2: 3100104 | B2: Abadia dos Dourados | C2: 6446 | D2: 3399 | E2: 3305 | F2: 4189 | G2: 2515 | H2: 6704 | J2: -18.4856 | K2: -47.4031
A3: 3100203 | B3: Abaeté | C3: 22360 | D3: 11229 | E3: 11471 | F3: 19714 | G3: 2986 | H3: 22700 | J3: -19.16 | K3: -45.4458
A4: 3100302 | B4: Abre Campo | C4: 13348 | D4: 6670 | E4: 6641 | F4: 7284 | G4: 6027 | H4: 13311 | J4: -20.3011 | K4: -42.4775
A5: 3100401 | B5: Acaiaca | C5: 3889 | D5: 1895 | E5: 2029 | F5: 2553 | G5: 1371 | H5: 3924 | J5: -20.3625 | K5: -43.1447
A6: 3100500 | B6: Açucena | C6: 11489 | D6: 5231 | E6: 5067 | F6: 4826 | G6: 5472 | H6: 10298 | J6: -19.0731 | K6: -42.5464
A7: 3100609 | B7: Água Boa | C7: 17795 | D7: 7739 | E7: 7454 | F7: 7042 | G7: 8151 | H7: 15193 | J7: -14.05 | K7: -52.1586
A8: 3100708 | B8: Água Comprida | C8: 2092 | D8: 1071 | E8: 949 | F8: 1516 | G8: 504 | H8: 2020 | J8: -20.0564 | K8: -48.1089
A9: 3100807 | B9: Aguanil | C9: 3562 | D9: 2055 | E9: 1994 | F9: 2337 | G9: 1712 | H9: 4049 | J9: -20.9425 | K9: -45.3928
A10: 3100906 | B10: Águas Formosas | C10: 17845 | D10: 9318 | E10: 9164 | F10: 14321 | G10: 4161 | H10: 18482 | J10: -17.0822 | K10: -40.9358
A11: 3101003 | B11: Águas Vermelhas | C11: 11878 | D11: 6527 | E11: 6191 | F11: 8943 | G11: 3775 | H11: 12718 | J11: -15.7472 | K11: -41.46
A12: 3101102 | B12: Aimorés | C12: 25105 | D12: 12060 | E12: 12909 | F12: 19705 | G12: 5264 | H12: 24969 | J12: -19.4958 | K12: -41.0639
A13: 3101201 | B13: Aiuruoca | C13: 6469 | D13: 3212 | E13: 2961 | F13: 3123 | G13: 3050 | H13: 6173 | J13: -21.9756 | K13: -44.6031
... A854: 3172202 | B854: Wenceslau Braz | C854: 2596 | D854: 1288 | E854: 1265 | F854: 1270 | G854: 1283 | H854: 2553 | J854: -22.5344 | K854: -45.3628
A855: Total | B855: Mina Gerais | C855: =SUM(C2:C854) -> 17891494 | D855: =SUM(D2:D854) -> 9640695 | E855: =SUM(E2:E854) -> 9954614 | F855: =SUM(F2:F854) -> 16713654 | G855: =SUM(G2:G854) -> 2881655 | H855: =SUM(H2:H854) -> 19595309 | I855: =COUNTA($A$2:A854) -> 853
A856: Fonte: IBGE, Resultados do Censo 2010.

Sheet Para
A1: Código do município | B1: Nome do município | C1: Total da população 2000 | D1: Total de homens | E1: Total de mulheres | F1: Total da população urbana | G1: Total da população rural | H1: Total da população 2010 | I1: Qtde Cidades | J1: Latitude | K1: Longitude
A2: 1500107 | B2: Abaetetuba | C2: 119152 | D2: 71612 | E2: 69442 | F2: 82950 | G2: 58104 | H2: 141054 | J2: -1.7181 | K2: -48.8825
A3: 1500131 | B3: Abel Figueiredo | C3: 5957 | D3: 3542 | E3: 3250 | F3: 6046 | G3: 746 | H3: 6792 | J3: -4.9536 | K3: -48.3933
A4: 1500206 | B4: Acará | C4: 52126 | D4: 28139 | E4: 25466 | F4: 12625 | G4: 40980 | H4: 53605 | J4: -1.9608 | K4: -48.1967
A5: 1500305 | B5: Afuá | C5: 29505 | D5: 18449 | E5: 16568 | F5: 9478 | G5: 25539 | H5: 35017 | J5: -0.1567 | K5: -50.3867
A6: 1500347 | B6: Água Azul do Norte | C6: 22084 | D6: 13618 | E6: 11443 | F6: 4876 | G6: 20185 | H6: 25061 | J6: -6.7911 | K6: -50.4669
A7: 1500404 | B7: Alenquer | C7: 41784 | D7: 27086 | E7: 25628 | F7: 27774 | G7: 24940 | H7: 52714 | J7: -1.9417 | K7: -54.7383
A8: 1500503 | B8: Almeirim | C8: 33957 | D8: 17502 | E8: 16163 | F8: 19972 | G8: 13693 | H8: 33665 | J8: -1.5233 | K8: -52.5817
A9: 1500602 | B9: Altamira | C9: 77439 | D9: 52814 | E9: 52216 | F9: 90068 | G9: 14962 | H9: 105030 | J9: -3.2033 | K9: -52.2064
A10: 1500701 | B10: Anajás | C10: 18322 | D10: 12968 | E10: 11803 | F10: 9492 | G10: 15279 | H10: 24771 | J10: -0.9867 | K10: -49.94
A11: 1500800 | B11: Ananindeua | C11: 393569 | D11: 226537 | E11: 245207 | F11: 470590 | G11: 1154 | H11: 471744 | J11: -1.3656 | K11: -48.3722
A12: 1500859 | B12: Anapu | C12: 9407 | D12: 10965 | E12: 9528 | F12: 9840 | G12: 10653 | H12: 20493 | J12: -3.4722 | K12: -51.1978
A13: 1500909 | B13: Augusto Corrêa | C13: 33011 | D13: 20994 | E13: 19505 | F13: 18237 | G13: 22262 | H13: 40499 | J13: -1.0217 | K13: -46.635
... A144: 1508407 | B144: Xinguara | C144: 35220 | D144: 20572 | E144: 20001 | F144: 31492 | G144: 9081 | H144: 40573 | J144: -7.095 | K144: -49.9458
A145: Total | B145: Pará | C145: =SUM(C2:C144) -> 6192307 | D145: =SUM(D2:D144) -> 3825245 | E145: =SUM(E2:E144) -> 3762833 | F145: =SUM(F2:F144) -> 5197118 | G145: =SUM(G2:G144) -> 2390960 | H145: =SUM(H2:H144) -> 7588078 | I145: =COUNTA($A$2:A144) -> 143
A146: Fonte: IBGE, Resultados do Censo 2010.

Sheet Paraiba
A1: Código do município | B1: Nome do município | C1: Total da população 2000 | D1: Total de homens | E1: Total de mulheres | F1: Total da população urbana | G1: Total da população rural | H1: Total da população 2010 | I1: Qtde Cidades | J1: Latitude | K1: Longitude
A2: 2500106 | B2: Água Branca | C2: 8377 | D2: 4720 | E2: 4729 | F2: 4061 | G2: 5388 | H2: 9449 | J2: -5.8922 | K2: -42.6361
A3: 2500205 | B3: Aguiar | C3: 5638 | D3: 2706 | E3: 2824 | F3: 2701 | G3: 2829 | H3: 5530 | J3: -7.0919 | K3: -38.1706
A4: 2500304 | B4: Alagoa Grande | C4: 29169 | D4: 13862 | E4: 14620 | F4: 17532 | G4: 10950 | H4: 28482 | J4: -7.1583 | K4: -35.63
A5: 2500403 | B5: Alagoa Nova | C5: 18575 | D5: 9764 | E5: 9922 | F5: 9797 | G5: 9889 | H5: 19686 | J5: -7.0708 | K5: -35.7583
A6: 2500502 | B6: Alagoinha | C6: 11833 | D6: 6706 | E6: 6871 | F6: 9033 | G6: 4544 | H6: 13577 | J6: -6.95 | K6: -35.545
A7: 2500536 | B7: Alcantil | C7: 4958 | D7: 2626 | E7: 2613 | F7: 2064 | G7: 3175 | H7: 5239 | J7: -7.7439 | K7: -36.0561
A8: 2500577 | B8: Algodão de Jandaíra | C8: 2209 | D8: 1218 | E8: 1148 | F8: 1231 | G8: 1135 | H8: 2366 | J8: -6.9053 | K8: -36.0069
A9: 2500601 | B9: Alhandra | C9: 15914 | D9: 8863 | E9: 9138 | F9: 11146 | G9: 6855 | H9: 18001 | J9: -7.4386 | K9: -34.9144
A10: 2500734 | B10: Amparo | C10: 1886 | D10: 1047 | E10: 1041 | F10: 1062 | G10: 1026 | H10: 2088 | J10: -22.7011 | K10: -46.7644
A11: 2500775 | B11: Aparecida | C11: 5894 | D11: 3796 | E11: 3880 | F11: 3638 | G11: 4038 | H11: 7676 | J11: -22.8469 | K11: -45.2297
A12: 2500809 | B12: Araçagi | C12: 18095 | D12: 8574 | E12: 8650 | F12: 6804 | G12: 10420 | H12: 17224 | J12: -6.8531 | K12: -35.3811
A13: 2500908 | B13: Arara | C13: 11530 | D13: 6074 | E13: 6579 | F13: 8924 | G13: 3729 | H13: 12653 | J13: -6.8283 | K13: -35.7583
... A224: 2517407 | B224: Zabelê | C224: 1853 | D224: 1052 | E224: 1023 | F224: 1472 | G224: 603 | H224: 2075 | J224: -8.0756 | K224: -37.0983
A225: Total | B225: Paraíba | C225: =SUM(C2:C224) -> 3443825 | D225: =SUM(D2:D224) -> 1824495 | E225: =SUM(E2:E224) -> 1942339 | F225: =SUM(F2:F224) -> 2839002 | G225: =SUM(G2:G224) -> 927832 | H225: =SUM(H2:H224) -> 3766834 | I225: =COUNTA($A$2:A224) -> 223
A226: Fonte: IBGE, Resultados do Censo 2010.

Sheet Parana
A1: Código do município | B1: Nome do município | C1: Total da população 2000 | D1: Total de homens | E1: Total de mulheres | F1: Total da população urbana | G1: Total da população rural | H1: Total da população 2010 | I1: Qtde Cidades | J1: Latitude | K1: Longitude
A2: 4100103 | B2: Abatiá | C2: 8259 | D2: 3911 | E2: 3842 | F2: 5721 | G2: 2032 | H2: 7753 | J2: -23.3036 | K2: -50.3125
A3: 4100202 | B3: Adrianópolis | C3: 7007 | D3: 3296 | E3: 3078 | F3: 2060 | G3: 4314 | H3: 6374 | J3: -24.6572 | K3: -48.9911
A4: 4100301 | B4: Agudos do Sul | C4: 7221 | D4: 4306 | E4: 3964 | F4: 2822 | G4: 5448 | H4: 8270 | J4: -25.9925 | K4: -49.3353
A5: 4100400 | B5: Almirante Tamandaré | C5: 88277 | D5: 51181 | E5: 52064 | F5: 98954 | G5: 4291 | H5: 103245 | J5: -25.3247 | K5: -49.31
A6: 4100459 | B6: Altamira do Paraná | C6: 6999 | D6: 2202 | E6: 2104 | F6: 2135 | G6: 2171 | H6: 4306 | J6: -24.7975 | K6: -52.7131
A7: 4128625 | B7: Alto Paraíso | C7: 3783 | D7: 1619 | E7: 1587 | F7: 1772 | G7: 1434 | H7: 3206 | J7: -9.7131 | K7: -63.3208
A8: 4100608 | B8: Alto Paraná | C8: 12717 | D8: 6841 | E8: 6821 | F8: 11219 | G8: 2443 | H8: 13662 | J8: -23.1289 | K8: -52.3189
A9: 4100707 | B9: Alto Piquiri | C9: 10761 | D9: 5128 | E9: 5051 | F9: 8375 | G9: 1804 | H9: 10179 | J9: -24.0281 | K9: -53.4406
A10: 4100509 | B10: Altônia | C10: 19230 | D10: 10157 | E10: 10359 | F10: 15094 | G10: 5422 | H10: 20516 | J10: -23.8744 | K10: -53.9017
A11: 4100806 | B11: Alvorada do Sul | C11: 9253 | D11: 5212 | E11: 5086 | F11: 7348 | G11: 2950 | H11: 10298 | J11: -22.7803 | K11: -51.2311
A12: 4100905 | B12: Amaporã | C12: 4655 | D12: 2756 | E12: 2688 | F12: 4332 | G12: 1112 | H12: 5444 | J12: -23.0958 | K12: -52.7875
A13: 4101002 | B13: Ampére | C13: 15623 | D13: 8586 | E13: 8722 | F13: 13257 | G13: 4051 | H13: 17308 | J13: -25.915 | K13: -53.4728
... A400: 4128807 | B400: Xambrê | C400: 6500 | D400: 2998 | E400: 3013 | F400: 1991 | G400: 4020 | H400: 6011 | J400: -23.7361 | K400: -53.49
A401: Total | B401: Paraná | C401: =SUM(C2:C400) -> 9563458 | D401: =SUM(D2:D400) -> 5128503 | E401: =SUM(E2:E400) -> 5311098 | F401: =SUM(F2:F400) -> 8906442 | G401: =SUM(G2:G400) -> 1533159 | H401: =SUM(H2:H400) -> 10439601 | I401: =COUNTA($A$2:A400) -> 399

Sheet Pernambuco
A1: Código do município | B1: Nome do município | C1: Total da população 2000 | D1: Total de homens | E1: Total de mulheres | F1: Total da população urbana | G1: Total da população rural | H1: Total da população 2010 | I1: Qtde Cidades | J1: Latitude | K1: Longitude
A2: 2600054 | B2: Abreu e Lima | C2: 89039 | D2: 45165 | E2: 49263 | F2: 86589 | G2: 7839 | H2: 94428 | J2: -7.9117 | K2: -34.9028
A3: 2600104 | B3: Afogados da Ingazeira | C3: 32922 | D3: 16790 | E3: 18301 | F3: 27406 | G3: 7685 | H3: 35091 | J3: -7.7508 | K3: -37.6392
A4: 2600203 | B4: Afrânio | C4: 15014 | D4: 8751 | E4: 8837 | F4: 5859 | G4: 11729 | H4: 17588 | J4: -8.515 | K4: -41.005
A5: 2600302 | B5: Agrestina | C5: 20036 | D5: 10938 | E5: 11742 | F5: 16955 | G5: 5725 | H5: 22680 | J5: -8.4581 | K5: -35.9447
A6: 2600401 | B6: Água Preta | C6: 28531 | D6: 16581 | E6: 16465 | F6: 18708 | G6: 14338 | H6: 33046 | J6: -8.7075 | K6: -35.5306
A7: 2600500 | B7: Águas Belas | C7: 36641 | D7: 19545 | E7: 20462 | F7: 24300 | G7: 15707 | H7: 40007 | J7: -9.1114 | K7: -37.1231
A8: 2600609 | B8: Alagoinha | C8: 12535 | D8: 6906 | E8: 6855 | F8: 7770 | G8: 5991 | H8: 13761 | J8: -6.95 | K8: -35.545
A9: 2600708 | B9: Aliança | C9: 37189 | D9: 18579 | E9: 18835 | F9: 20249 | G9: 17165 | H9: 37414 | J9: -7.6033 | K9: -35.2308
A10: 2600807 | B10: Altinho | C10: 22131 | D10: 11114 | E10: 11249 | F10: 12781 | G10: 9582 | H10: 22363 | J10: -8.4897 | K10: -36.0594
A11: 2600906 | B11: Amaraji | C11: 21309 | D11: 10982 | E11: 10943 | F11: 16033 | G11: 5892 | H11: 21925 | J11: -8.3831 | K11: -35.4525
A12: 2601003 | B12: Angelim | C12: 9082 | D12: 5019 | E12: 5185 | F12: 6089 | G12: 4115 | H12: 10204 | J12: -8.8903 | K12: -36.2858
A13: 2601052 | B13: Araçoiaba | C13: 15108 | D13: 9014 | E13: 9130 | F13: 15261 | G13: 2883 | H13: 18144 | J13: -7.7903 | K13: -35.0908
... A186: 2616506 | B186: Xexéu | C186: 13597 | D186: 6996 | E186: 7096 | F186: 9165 | G186: 4927 | H186: 14092 | J186: -8.8022 | K186: -35.6269
A187: Total | B187: Pernambuco | C187: =SUM(C2:C186) -> 7918344 | D187: =SUM(D2:D186) -> 4229897 | E187: =SUM(E2:E186) -> 4566135 | F187: =SUM(F2:F186) -> 7049868 | G187: =SUM(G2:G186) -> 1746164 | H187: =SUM(H2:H186) -> 8796032 | I187: =COUNTA($A$2:A186) -> 185
A188: Fonte: IBGE, Resultados do Censo 2010.

Sheet Piaui
A1: Código do município | B1: Nome do município | C1: Total da população 2000 | D1: Total de homens | E1: Total de mulheres | F1: Total da população urbana | G1: Total da população rural | H1: Total da população 2010 | I1: Qtde Cidades | J1: Latitude | K1: Longitude
A2: 2200053 | B2: Acauã | C2: 5147 | D2: 3459 | E2: 3290 | F2: 901 | G2: 5848 | H2: 6749 | J2: -8.215 | K2: -41.0817
A3: 2200103 | B3: Agricolândia | C3: 5340 | D3: 2467 | E3: 2647 | F3: 3617 | G3: 1497 | H3: 5114 | J3: -5.7989 | K3: -42.6689
A4: 2200202 | B4: Água Branca | C4: 14517 | D4: 7813 | E4: 8648 | F4: 14549 | G4: 1912 | H4: 16461 | J4: -5.8922 | K4: -42.6361
A5: 2200251 | B5: Alagoinha do Piauí | C5: 6868 | D5: 3687 | E5: 3662 | F5: 2669 | G5: 4680 | H5: 7349 | J5: -7.0075 | K5: -40.9389
A6: 2200277 | B6: Alegrete do Piauí | C6: 4713 | D6: 2556 | E6: 2595 | F6: 2837 | G6: 2314 | H6: 5151 | J6: -7.2428 | K6: -40.8575
A7: 2200301 | B7: Alto Longá | C7: 12000 | D7: 6966 | E7: 6688 | F7: 6714 | G7: 6940 | H7: 13654 | J7: -5.2511 | K7: -42.2103
A8: 2200400 | B8: Altos | C8: 39122 | D8: 19114 | E8: 19709 | F8: 27391 | G8: 11432 | H8: 38823 | J8: -5.0381 | K8: -42.46
A9: 2200459 | B9: Alvorada do Gurguéia | C9: 4211 | D9: 2651 | E9: 2400 | F9: 1849 | G9: 3202 | H9: 5051 | J9: -8.4244 | K9: -43.7772
A10: 2200509 | B10: Amarante | C10: 16884 | D10: 8331 | E10: 8810 | F10: 8775 | G10: 8366 | H10: 17141 | J10: -6.2411 | K10: -42.8547
A11: 2200608 | B11: Angical do Piauí | C11: 6788 | D11: 3233 | E11: 3437 | F11: 5212 | G11: 1458 | H11: 6670 | J11: -6.0856 | K11: -42.7392
A12: 2200707 | B12: Anísio de Abreu | C12: 7166 | D12: 4641 | E12: 4453 | F12: 4504 | G12: 4590 | H12: 9094 | J12: -9.1894 | K12: -43.0458
A13: 2200806 | B13: Antônio Almeida | C13: 2851 | D13: 1562 | E13: 1484 | F13: 2227 | G13: 819 | H13: 3046 | J13: -7.2192 | K13: -44.1975
... A225: 2211704 | B225: Wall Ferraz | C225: 3998 | D225: 2167 | E225: 2113 | F225: 1166 | G225: 3114 | H225: 4280 | J225: -7.2328 | K225: -41.91
A226: Total | B226: Piauí | C226: =SUM(C2:C225) -> 2843278 | D226: =SUM(D2:D225) -> 1528796 | E226: =SUM(E2:E225) -> 1590219 | F226: =SUM(F2:F225) -> 2051316 | G226: =SUM(G2:G225) -> 1067699 | H226: =SUM(H2:H225) -> 3119015 | I226: =COUNTA($A$2:A225) -> 224
A227: Fonte: IBGE, Resultados do Censo 2010.

Sheet rio de janeiro
A1: Código do município | B1: Nome do município | C1: Total da população 2000 | D1: Total de homens | E1: Total de mulheres | F1: Total da população urbana | G1: Total da população rural | H1: Total da população 2010 | I1: Qtde Cidades | J1: Latitude | K1: Longitude
A2: 3300100 | B2: Angra dos Reis | C2: 119247 | D2: 84490 | E2: 84780 | F2: 163080 | G2: 6190 | H2: 169270 | J2: -23.0067 | K2: -44.3181
A3: 3300159 | B3: Aperibé | C3: 8018 | D3: 5023 | E3: 5192 | F3: 8880 | G3: 1335 | H3: 10215 | J3: -21.6208 | K3: -42.1028
A4: 3300209 | B4: Araruama | C4: 82803 | D4: 54305 | E4: 57723 | F4: 106519 | G4: 5509 | H4: 112028 | J4: -22.8728 | K4: -42.3431
A5: 3300225 | B5: Areal | C5: 9899 | D5: 5663 | E5: 5758 | F5: 9920 | G5: 1501 | H5: 11421 | J5: -22.2306 | K5: -43.1056
A6: 3300233 | B6: Armação dos Búzios | C6: 18204 | D6: 13737 | E6: 13801 | F6: 27538 | G6: 0 | H6: 27538 | J6: -22.7469 | K6: -41.8817
A7: 3300258 | B7: Arraial do Cabo | C7: 23877 | D7: 13647 | E7: 14123 | F7: 27770 | G7: 0 | H7: 27770 | J7: -22.9661 | K7: -42.0278
A8: 3300308 | B8: Barra do Piraí | C8: 88503 | D8: 45208 | E8: 49647 | F8: 92040 | G8: 2815 | H8: 94855 | J8: -22.47 | K8: -43.8256
A9: 3300407 | B9: Barra Mansa | C9: 170753 | D9: 85822 | E9: 92039 | F9: 176251 | G9: 1610 | H9: 177861 | J9: -22.5442 | K9: -44.1714
A10: 3300456 | B10: Belford Roxo | C10: 434474 | D10: 226757 | E10: 242504 | F10: 469261 | G10: 0 | H10: 469261 | J10: -22.7642 | K10: -43.3994
A11: 3300506 | B11: Bom Jardim | C11: 22651 | D11: 12756 | E11: 12642 | F11: 15281 | G11: 10117 | H11: 25398 | J11: -7.7958 | K11: -35.5872
A12: 3300605 | B12: Bom Jesus do Itabapoana | C12: 33655 | D12: 17179 | E12: 18205 | F12: 29912 | G12: 5472 | H12: 35384 | J12: -21.1339 | K12: -41.6797
A13: 3300704 | B13: Cabo Frio | C13: 126828 | D13: 90806 | E13: 95416 | F13: 140466 | G13: 45756 | H13: 186222 | J13: -22.8794 | K13: -42.0186
... A93: 3306305 | B93: Volta Redonda | C93: 242063 | D93: 122977 | E93: 135019 | F93: 257879 | G93: 117 | H93: 257996 | J93: -22.5231 | K93: -44.1042
A94: Total | B94: Rio de Janeiro | C94: =SUM(C2:C93) -> 14391282 | D94: =SUM(D2:D93) -> 7626920 | E94: =SUM(E2:E93) -> 8366663 | F94: =SUM(F2:F93) -> 15466996 | G94: =SUM(G2:G93) -> 526587 | H94: =SUM(H2:H93) -> 15993583 | I94: =COUNTA($A$2:A93) -> 92 | J94: -22.9028 | K94: -43.2075
A95: Fonte: IBGE, Resultados do Censo 2010.

Sheet rio grande do norte
A1: Código do município | B1: Nome do município | C1: Total da população 2000 | D1: Total de homens | E1: Total de mulheres | F1: Total da população urbana | G1: Total da população rural | H1: Total da população 2010 | I1: Qtde Cidades | J1: Latitude | K1: Longitude
A2: 2400109 | B2: Acari | C2: 11189 | D2: 5364 | E2: 5671 | F2: 8902 | G2: 2133 | H2: 11035 | J2: -6.4356 | K2: -36.6389
A3: 2400208 | B3: Açu | C3: 47904 | D3: 26158 | E3: 27087 | F3: 39369 | G3: 13876 | H3: 53245 | J3: -5.5767 | K3: -36.9086
A4: 2400307 | B4: Afonso Bezerra | C4: 10867 | D4: 5464 | E4: 5415 | F4: 5760 | G4: 5119 | H4: 10879 | J4: -5.4983 | K4: -36.5056
A5: 2400406 | B5: Água Nova | C5: 2678 | D5: 1480 | E5: 1504 | F5: 1908 | G5: 1076 | H5: 2984 | J5: -6.2092 | K5: -38.2972
A6: 2400505 | B6: Alexandria | C6: 13772 | D6: 6602 | E6: 6873 | F6: 9188 | G6: 4287 | H6: 13475 | J6: -6.4125 | K6: -38.0158
A7: 2400604 | B7: Almino Afonso | C7: 5195 | D7: 2499 | E7: 2381 | F7: 3488 | G7: 1392 | H7: 4880 | J7: -6.1522 | K7: -37.7661
A8: 2400703 | B8: Alto do Rodrigues | C8: 9499 | D8: 6163 | E8: 6143 | F8: 8875 | G8: 3431 | H8: 12306 | J8: -5.2883 | K8: -36.7622
A9: 2400802 | B9: Angicos | C9: 11626 | D9: 5657 | E9: 5896 | F9: 10089 | G9: 1464 | H9: 11553 | J9: -5.6656 | K9: -36.6011
A10: 2400901 | B10: Antônio Martins | C10: 6757 | D10: 3494 | E10: 3413 | F10: 3784 | G10: 3123 | H10: 6907 | J10: -6.2128 | K10: -37.9056
A11: 2401008 | B11: Apodi | C11: 34174 | D11: 17376 | E11: 17401 | F11: 17545 | G11: 17232 | H11: 34777 | J11: -5.6642 | K11: -37.7989
